BEGIN:VCALENDAR
VERSION:2.0
PRODID:-//Asociaci&oacute;n Espa&ntilde;ola de Aeromodelismo - ECPv6.15.20//NONSGML v1.0//EN
CALSCALE:GREGORIAN
METHOD:PUBLISH
X-ORIGINAL-URL:https://www.aeamd.org
X-WR-CALDESC:Eventos para Asociaci&oacute;n Espa&ntilde;ola de Aeromodelismo
REFRESH-INTERVAL;VALUE=DURATION:PT1H
X-Robots-Tag:noindex
X-PUBLISHED-TTL:PT1H
BEGIN:VTIMEZONE
TZID:UTC
BEGIN:STANDARD
TZOFFSETFROM:+0000
TZOFFSETTO:+0000
TZNAME:UTC
DTSTART:20230101T000000
END:STANDARD
END:VTIMEZONE
BEGIN:VEVENT
DTSTART;VALUE=DATE:20240406
DTEND;VALUE=DATE:20240407
DTSTAMP:20260424T050324
CREATED:20240226T211803Z
LAST-MODIFIED:20240226T214856Z
UID:10160-1712361600-1712447999@www.aeamd.org
SUMMARY:II HAPPY FLY GRAN CANARIA
DESCRIPTION:
URL:https://www.aeamd.org/evento/ii-happy-fly-gran-canaria-2/
LOCATION:Club R/C Gran Canaria\, Club Aeromodelismo R/C Gran Canaria\, Las Palmas de Gran Canaria\, Las Palmas de Gran Canaria\, 35010\, España
CATEGORIES:Concentración de Aeromodelismo
ATTACH;FMTTYPE=image/webp:https://www.aeamd.org/wp-content/uploads/2024/02/IMG-20240226-WA0001.webp
ORGANIZER;CN="Club R/C Gran Canaria":MAILTO:clubaeromodelismogc@gmail.com
END:VEVENT
END:VCALENDAR