BEGIN:VCALENDAR
VERSION:2.0
PRODID:-//Asociaci&oacute;n Espa&ntilde;ola de Aeromodelismo - ECPv6.15.20//NONSGML v1.0//EN
CALSCALE:GREGORIAN
METHOD:PUBLISH
X-WR-CALNAME:Asociaci&oacute;n Espa&ntilde;ola de Aeromodelismo
X-ORIGINAL-URL:https://www.aeamd.org
X-WR-CALDESC:Eventos para Asociaci&oacute;n Espa&ntilde;ola de Aeromodelismo
REFRESH-INTERVAL;VALUE=DURATION:PT1H
X-Robots-Tag:noindex
X-PUBLISHED-TTL:PT1H
BEGIN:VTIMEZONE
TZID:UTC
BEGIN:STANDARD
TZOFFSETFROM:+0000
TZOFFSETTO:+0000
TZNAME:UTC
DTSTART:20230101T000000
END:STANDARD
END:VTIMEZONE
BEGIN:VEVENT
DTSTART;VALUE=DATE:20240412
DTEND;VALUE=DATE:20240415
DTSTAMP:20260423T185748
CREATED:20240217T144544Z
LAST-MODIFIED:20240217T144930Z
UID:9909-1712880000-1713139199@www.aeamd.org
SUMMARY:VIII ANIVERSARIO LOS QUEMA2
DESCRIPTION:Un año mas \, coincidiendo con su 8º ANIVERSARIO los amigos del Club Deportivo de Aeromodelismo Los Quema2 RC de Palma del Río\, Córdoba\, nos invitan a disfrutar de sus magníficas instalaciones.\nYa avisan en su cartel\, de que en caso de no poder celebrarse en la fecha prevista\, se aplazará hasta finales de octubre. \n 
URL:https://www.aeamd.org/evento/viii-aniversario-los-quema2/
LOCATION:CDA LOS QUEMA2 RC\, CAMPO DE AEROMODELISMO\, Palma del Rio\, Córdoba\, 14709\, España
CATEGORIES:Concentración de Aeromodelismo
ATTACH;FMTTYPE=image/webp:https://www.aeamd.org/wp-content/uploads/2024/02/8aniversario-los-quema2.webp
ORGANIZER;CN="Club Los Quema2 RC":MAILTO:losquema2rc@gmail.com
END:VEVENT
END:VCALENDAR