BEGIN:VCALENDAR
VERSION:2.0
PRODID:-//Asociaci&oacute;n Espa&ntilde;ola de Aeromodelismo - ECPv6.15.20//NONSGML v1.0//EN
CALSCALE:GREGORIAN
METHOD:PUBLISH
X-ORIGINAL-URL:https://www.aeamd.org
X-WR-CALDESC:Eventos para Asociaci&oacute;n Espa&ntilde;ola de Aeromodelismo
REFRESH-INTERVAL;VALUE=DURATION:PT1H
X-Robots-Tag:noindex
X-PUBLISHED-TTL:PT1H
BEGIN:VTIMEZONE
TZID:UTC
BEGIN:STANDARD
TZOFFSETFROM:+0000
TZOFFSETTO:+0000
TZNAME:UTC
DTSTART:20230101T000000
END:STANDARD
END:VTIMEZONE
BEGIN:VEVENT
DTSTART;VALUE=DATE:20240426
DTEND;VALUE=DATE:20240429
DTSTAMP:20260422T215451
CREATED:20240217T151440Z
LAST-MODIFIED:20240217T151714Z
UID:9924-1714089600-1714348799@www.aeamd.org
SUMMARY:AGUACATE MODEL AIR SHOW 2024
DESCRIPTION:Una vez más\, el  Real Aeroclub de Málaga facilita sus instalaciones para la celebración de este grandioso evento. Ésta colaboración muestra nuestro compromiso con la promoción y difusión de la pasión por la aviación y el aeromodelismo\, brindando a los participantes y asistentes un entorno espectacular para disfrutar al máximo de esta experiencia única. \nEn este evento\, es fundamental destacar el esfuerzo y dedicación del organizador\, Francisco Romero\, representante de la Asociación Aguacate Model Air Show. Su incansable labor y pasión por el aeromodelismo han sido fundamentales para llevar a cabo esta magnífica exhibición\, que promete superar todas las expectativas.Un evento único que reunirá a entusiastas de la aviación y el aeromodelismo en el impresionante Aeródromo de La Axarquía\, propiedad del Real Aeroclub de Málaga.\nLa entrada al evento es gratuita\, lo que permite que tanto los apasionados de la aviación como el público en general puedan disfrutar de esta celebración sin ningún coste. Además\, el evento contará con un mercadillo donde los asistentes podrán adquirir productos relacionados con el aeromodelismo\, así como participar en actividades y conferencias relacionadas con la aviación y el modelismo. \nAparte de las impresionantes maquetas de aeromodelismo\, el Aguacate Model Air Show contará con la participación de aviones reales\, propiedad del Real Aeroclub de Málaga\, que deleitarán a los aficionados con emocionantes demostraciones aéreas. \nPor éste motivo\, el Aguacate Model Air Show\, con el inestimable esfuerzo de Francisco Romero y la colaboración del Real Aeroclub de Málaga\, promete ser un evento emocionante y divertido que ofrece un fascinante vistazo al mundo de la aviación y el aeromodelismo. No te pierdas la oportunidad de presenciar este espectáculo único que cautivará a personas de todas las edades. ¡Prepárate para vivir una experiencia inolvidable en el maravilloso mundo de la aviación y el aeromodelismo! \nEste espectáculo de renombre internacional atrae a participantes de diversos países\, convirtiéndose en una emocionante exhibición de maquetas de aviones y acrobacias aéreas que no te puedes perder.
URL:https://www.aeamd.org/evento/9924/
LOCATION:REAL AEROCLUB DE MÁLAGA\, Real Aeroclub de Málaga\, Vélez Málaga\, Málaga\, 29719\, España
CATEGORIES:Concentración de Aeromodelismo,Festival Aéreo
ATTACH;FMTTYPE=image/webp:https://www.aeamd.org/wp-content/uploads/2024/02/AGUACATE-2024-MODEL-AIR-SHOW.webp
ORGANIZER;CN="ASOCIACI%C3%93N AGUACATE MODEL AIRSHOW":MAILTO:info@aguacatemodelairshow.es
END:VEVENT
END:VCALENDAR