BEGIN:VCALENDAR
VERSION:2.0
PRODID:-//Asociaci&oacute;n Espa&ntilde;ola de Aeromodelismo - ECPv6.15.20//NONSGML v1.0//EN
CALSCALE:GREGORIAN
METHOD:PUBLISH
X-ORIGINAL-URL:https://www.aeamd.org
X-WR-CALDESC:Eventos para Asociaci&oacute;n Espa&ntilde;ola de Aeromodelismo
REFRESH-INTERVAL;VALUE=DURATION:PT1H
X-Robots-Tag:noindex
X-PUBLISHED-TTL:PT1H
BEGIN:VTIMEZONE
TZID:UTC
BEGIN:STANDARD
TZOFFSETFROM:+0000
TZOFFSETTO:+0000
TZNAME:UTC
DTSTART:20230101T000000
END:STANDARD
END:VTIMEZONE
BEGIN:VEVENT
DTSTART;VALUE=DATE:20240429
DTEND;VALUE=DATE:20240506
DTSTAMP:20260422T204833
CREATED:20240219T192422Z
LAST-MODIFIED:20240226T214847Z
UID:10079-1714348800-1714953599@www.aeamd.org
SUMMARY:HELIWEEK 2024
DESCRIPTION:
URL:https://www.aeamd.org/evento/heliweek-2024/
LOCATION:CLUB SEDIS AEROMODELISMO\, Pla de les Forques\, La Seu d’Urgell\, Lérida\, 25700
CATEGORIES:Concentración de Aeromodelismo
ATTACH;FMTTYPE=image/webp:https://www.aeamd.org/wp-content/uploads/2024/02/Cartel-La-Seu-2024Foto.webp
ORGANIZER;CN="CLUB SEDIS AEROMODELISMO":MAILTO:Info@aerosedis.org .
END:VEVENT
END:VCALENDAR