BEGIN:VCALENDAR
VERSION:2.0
PRODID:-//Asociaci&oacute;n Espa&ntilde;ola de Aeromodelismo - ECPv6.15.20//NONSGML v1.0//EN
CALSCALE:GREGORIAN
METHOD:PUBLISH
X-ORIGINAL-URL:https://www.aeamd.org
X-WR-CALDESC:Eventos para Asociaci&oacute;n Espa&ntilde;ola de Aeromodelismo
REFRESH-INTERVAL;VALUE=DURATION:PT1H
X-Robots-Tag:noindex
X-PUBLISHED-TTL:PT1H
BEGIN:VTIMEZONE
TZID:UTC
BEGIN:STANDARD
TZOFFSETFROM:+0000
TZOFFSETTO:+0000
TZNAME:UTC
DTSTART:20230101T000000
END:STANDARD
END:VTIMEZONE
BEGIN:VEVENT
DTSTART;VALUE=DATE:20240510
DTEND;VALUE=DATE:20240513
DTSTAMP:20260422T204149
CREATED:20240217T154043Z
LAST-MODIFIED:20240217T154043Z
UID:9941-1715299200-1715558399@www.aeamd.org
SUMMARY:BOQUERÓN AIR MEETIN 2024
DESCRIPTION:Un año mas \, el encuentro mas esperado con los compañeros de la Axarquia.\nEl club aeromodelismo Axarquía en Vélez Málaga\, comparte e invita a sus instalaciones a todos aquellos enamorados de los encuentros entre amigos y modelos que vuelen…. \n 
URL:https://www.aeamd.org/evento/boqueron-air-meetin-2024/
LOCATION:CLUB AEROMODELISMO AXARQUIA\, Club Aeromodelismo Axarquía\, Vélez Málaga\, Málaga\, 29700\, España
CATEGORIES:Concentración de Aeromodelismo
ATTACH;FMTTYPE=image/webp:https://www.aeamd.org/wp-content/uploads/2024/02/boqueron-air-meeting-2024.webp
ORGANIZER;CN="CLUB AEROMODELISMO AXARQUIA":MAILTO:aeromodelismoaxarquia@gmail.com
END:VEVENT
END:VCALENDAR