BEGIN:VCALENDAR
VERSION:2.0
PRODID:-//Asociaci&oacute;n Espa&ntilde;ola de Aeromodelismo - ECPv6.15.20//NONSGML v1.0//EN
CALSCALE:GREGORIAN
METHOD:PUBLISH
X-WR-CALNAME:Asociaci&oacute;n Espa&ntilde;ola de Aeromodelismo
X-ORIGINAL-URL:https://www.aeamd.org
X-WR-CALDESC:Eventos para Asociaci&oacute;n Espa&ntilde;ola de Aeromodelismo
REFRESH-INTERVAL;VALUE=DURATION:PT1H
X-Robots-Tag:noindex
X-PUBLISHED-TTL:PT1H
BEGIN:VTIMEZONE
TZID:UTC
BEGIN:STANDARD
TZOFFSETFROM:+0000
TZOFFSETTO:+0000
TZNAME:UTC
DTSTART:20230101T000000
END:STANDARD
END:VTIMEZONE
BEGIN:VEVENT
DTSTART;VALUE=DATE:20240517
DTEND;VALUE=DATE:20240520
DTSTAMP:20260422T203439
CREATED:20240506T184608Z
LAST-MODIFIED:20240506T190307Z
UID:10576-1715904000-1716163199@www.aeamd.org
SUMMARY:II CONCENTRACIÓN NACIONAL DE MAQUETAS VOLAR ESCALA
DESCRIPTION:Formulario de inscripción: \nhttps://docs.google.com/forms/d/e/1FAIpQLSeOGK5cplu1MUl-Ji7lCBZ-qbkQi5Ek4nLNny-avqlYXrXH8g/viewform \n 
URL:https://www.aeamd.org/evento/ii-concentracion-nacional-de-maquetas-volar-escala/
LOCATION:Club Las Aguilas (El Casar)\, Campo de Vuelo el Casar\, El Casar\, Guadaljara\, 19170\, España
ATTACH;FMTTYPE=image/jpeg:https://www.aeamd.org/wp-content/uploads/2024/05/Imagen-de-WhatsApp-2024-05-06-a-las-19.52.02_c5b9d794.jpg
ORGANIZER;CN="Club Las Aguilas RC":MAILTO:info.aguilasrc@gmail.com
END:VEVENT
BEGIN:VEVENT
DTSTART;VALUE=DATE:20240518
DTEND;VALUE=DATE:20240520
DTSTAMP:20260422T203439
CREATED:20240217T162015Z
LAST-MODIFIED:20240217T175353Z
UID:9965-1715990400-1716163199@www.aeamd.org
SUMMARY:3D FURTIVOS 2024
DESCRIPTION:
URL:https://www.aeamd.org/evento/3d-furtivos-2024/
LOCATION:ARC SAN CUGAT\, Club Aeromodelismo Sant Cugat\, Sant Cugat del Vallès\, Barcelona\, 08174
CATEGORIES:Concentración de Aeromodelismo
ATTACH;FMTTYPE=image/webp:https://www.aeamd.org/wp-content/uploads/2024/02/furtivosrc2024.webp
END:VEVENT
END:VCALENDAR