BEGIN:VCALENDAR
VERSION:2.0
PRODID:-//Asociaci&oacute;n Espa&ntilde;ola de Aeromodelismo - ECPv6.15.20//NONSGML v1.0//EN
CALSCALE:GREGORIAN
METHOD:PUBLISH
X-WR-CALNAME:Asociaci&oacute;n Espa&ntilde;ola de Aeromodelismo
X-ORIGINAL-URL:https://www.aeamd.org
X-WR-CALDESC:Eventos para Asociaci&oacute;n Espa&ntilde;ola de Aeromodelismo
REFRESH-INTERVAL;VALUE=DURATION:PT1H
X-Robots-Tag:noindex
X-PUBLISHED-TTL:PT1H
BEGIN:VTIMEZONE
TZID:UTC
BEGIN:STANDARD
TZOFFSETFROM:+0000
TZOFFSETTO:+0000
TZNAME:UTC
DTSTART:20230101T000000
END:STANDARD
END:VTIMEZONE
BEGIN:VEVENT
DTSTART;VALUE=DATE:20240531
DTEND;VALUE=DATE:20240603
DTSTAMP:20260422T180445
CREATED:20240218T145143Z
LAST-MODIFIED:20240218T150714Z
UID:10043-1717113600-1717372799@www.aeamd.org
SUMMARY:COPA GRATAL
DESCRIPTION:Durante el 31 de Mayo\, 1 y 2 de Junio 2024\, tendrá lugar el campeonato «EuroCup Copa Gratal» de Acrobacia con Grandes Modelos\, en las instalaciones de la Copa Breitling\, que durante tantos años fue la mejor competición a nivel nacional e internacional. \nOrganización: Club Aeromodelismo Osca\, por delegación de la Comisión Técnica Nacional\, de IMAC España y de la Real Federación Aeronáutica Española. \nLugar: Campo de Vuelo Club Aeromodelismo Osca\, Igries (Huesca) \nNormativa: IMAC \nCategorías Participantes: Sport\, Intermedia\, Avanzada e Ilimitada. \nProgramas Acrobáticos\nCategoría Ilimitada: Programa Conocido 2024\nCategoría Avanzada: Programa Conocido 2024\nCategoría Intermedia: Programa Conocido 2024\nCategoría Sport: Programa Conocido 2024 \nCategoría Freestyle: Freestyle  \nInscripción\nInscripción abierta hasta el 10 de Mayo.\nCoste de la inscripción: 75 € \n\nImportante: Debido a la normativa de UAS\, todo piloto participante deberá tener el registro de UAS\, además de una licencia Autonómica\, Nacional o FAI.\n\nLa inscripción se deberá de cumplimentar desde el formulario INSCRIPCIÓN de la pagina web\, y en ningún caso\, aceptaremos inscripciones realizadas por email. Se ruega que se cumplimente correctamente todos los campos de la inscripción. Una vez realizada la inscripción\, nos pondremos en contacto con el participante para confirmar que todos los datos estén correctos.  En caso de no recibir notificación por parte del participante\, lo daremos por confirmado.\nPasada la fecha de cierre de inscripción\, no nos haremos cargo de los posibles errores realizados en la inscripción. \nComidas:\nSe establecerán unos bonos para las comidas de campo y para la cena\, estamos a la espera de que nos confirmen los precios del catering. En cuanto tengamos los precios del catering\, publicaremos el Boletin II. Para facilitar el trabajo a la organización\, os pedimos que rellenen el formulario de inscripción con las comidas y cena. \nLa comidas deberán reservarse en la hoja de inscripción\, antes del 10 de Mayo; pasada esa fecha\, no se admitirán reservas de comidas y la inscripción será de 150 €. \nAlojamiento concertado\nAlojamiento concertado:\nAbba Huesca Hoteles ****\nC/ Tarbes\, 14\n22005 Huesca\nT. (+34) 974 29 29 00\nE-mail: huesca@abbahoteles.com \nPrecios:\n– Habitación Individual solo alojamiento:  84€ por noche IVA incluido.\n– Habitación doble solo alojamiento: 88€ por noche IVA incluido.\n– Habitación triple solo alojamiento: 113€ por noche IVA incluido.\n– Desayuno: 13€ por persona. \nLas habitaciones nos las bloquean hasta el 31 de Marzo. Huesca no dispone de muchas plazas hoteleras y hay mucha ocupación durante esas fechas\, y actualmente\, hay poca disponibilidad de Hoteles a buen precio.\nCada piloto gestionará su reserva con el Hotel\, mencionando que la reserva es para el Campeonato de Aeromodelismo.\n\nOtras opciones de Alojamiento:\n\nHotel Pedro I de Aragón ****\nCalle del Parque\, 34\n22003\, Huesca\nTel: 974 220 300\nE-mail: pedroi@gargallohotels.es \nPrecios:\n– Habitación individual 72\,00€\n– Habitación doble 90\,00€\n– Habitación triple 108\,00€ \nTarifas por noche\, en régimen de sólo alojamiento.\n* Opción de añadir el desayuno buffet por +12\,00€/persona y si no disponen también de cafetería. \nIVA INCLUIDO – Tarifas no comisionables \nImportante:\nCondiciones de reserva para Hotel Pedro 1 de Aragón: \n– Garantía no reembolsable del 25% a ingresar antes del 01/05/2024\n– Resto del pago no reembolsable antes del 24/05/2024 \n  \nInstalaciones/Camping\nEl campo de vuelo dispone de una tejavana de 80m para poder dejar los aviones a la sombra.\nUna pista de asfalto de 200m x 15m \nNo habrá disponible una carpa para poder dejar los aviones montados\, el que quiera lo podrá dejar al aire libre debajo de la tejavana. \nHabrá una zona habilitada de Camping disponible en el campo de vuelo con ducha al aire libre y baños. \nEl campo de vuelo no dispone de luz. \n\nPara cualquier duda póngase en contacto con:\nJon Caldito \nTlf: 649 17 96 38\nE-mail: info@mini-iac.es
URL:https://www.aeamd.org/evento/copa-gratal/
LOCATION:CLUB AEROMODELISMO OSCA\, Club Aeromodelismo Osca\, Igriés\, HUESCA\, 22193\, España
CATEGORIES:Concentración de Aeromodelismo
ATTACH;FMTTYPE=image/webp:https://www.aeamd.org/wp-content/uploads/2024/02/COPA-GRATAL.webp
ORGANIZER;CN="CLUB AEROMODELISMO OSCA":MAILTO:https://www.aeromodelismoosca.com/es/contact
END:VEVENT
BEGIN:VEVENT
DTSTART;VALUE=DATE:20240601
DTEND;VALUE=DATE:20240602
DTSTAMP:20260422T180445
CREATED:20240218T145950Z
LAST-MODIFIED:20240218T145950Z
UID:10046-1717200000-1717286399@www.aeamd.org
SUMMARY:DIA DE LAS FUERZAS ARMADAS
DESCRIPTION:El Principado de Asturias acogerá la celebración del Día de las Fuerzas Armadas (DIFAS) 2024\, un encuentro que cada año busca acercar a los militares a la sociedad de la que forman parte y a la que sirven de muchas y diferentes maneras\, tanto dentro como fuera de España. \nLa capital asturiana\, Oviedo\, será el escenario el día 1 de junio del acto central institucional del DIFAS\, presidido por Sus Majestades los Reyes\, que consta de un desfile terrestre y uno aéreo. Y en Gijón se celebrará en los días previos la revista aeronaval. \nAsturias\, tierra acogedora y muy vinculada a las Fuerzas Armadas\, siempre ha demostrado mucho cariño a sus miembros\, que gozan de gran popularidad. La buena relación entre ejército y la sociedad asturiana viene de lejos y colaboran en todas las ocasiones que se presentan\, como la que tendrá lugar en 2024. \nAsí\, los asturianos serán los protagonistas el próximo año de una fiesta que suele echar a la calle a miles de personas para disfrutar de las exhibiciones y desfiles militares\, y que facilita la confraternización entre civiles y uniformados cuya vocación de servicio a España la demuestran cada día y en cada misión. \nPrecisamente para que más ciudadanos españoles puedan compartir y demostrar su afecto a las modernas y comprometidas Fuerzas Armadas españolas\, en los últimos años se ha recuperado la tradición de que este acto se celebre en distintos lugares del territorio nacional. Granada el pasado año\, Huesca o La Rioja en anteriores\, son algunas de las provincias que han acogido los actos del DIFAS. \nEn los últimos años se ha recuperado la tradición de que la fiesta de los ejércitos se desarrolle en distintos lugares del territorio nacional y aproximar así a los militares a más ciudadanos. El pasado año\, miles de personas se echaron a la calle en Granada y Motril para celebrar junto a sus ejércitos este día. \nEste encuentro anual entre civiles y militares se remonta a 1978 cuando se estableció realizar un acto institucional que sirviera de homenaje a los Ejércitos y la Armada\, así como la UME\, para fomentar el conocimiento y su integración en la sociedad. El DIFAS se celebra tradicionalmente el sábado coincidente o más cercano al 30 de mayo\, festividad de San Fernando.
URL:https://www.aeamd.org/evento/dia-de-las-fuerzas-armadas/
LOCATION:HUESCA
CATEGORIES:Festival Aéreo
ATTACH;FMTTYPE=image/webp:https://www.aeamd.org/wp-content/uploads/2024/02/PATRULLA-AGUILA-3.webp
END:VEVENT
BEGIN:VEVENT
DTSTART;VALUE=DATE:20240602
DTEND;VALUE=DATE:20240603
DTSTAMP:20260422T180445
CREATED:20240217T162152Z
LAST-MODIFIED:20240217T162152Z
UID:9967-1717286400-1717372799@www.aeamd.org
SUMMARY:ÍCARO MAQUETAS 2024
DESCRIPTION:Un año mas\, CONCENTRACIÓN DE MAQUETAS
URL:https://www.aeamd.org/evento/icaro-maquetas-2024/
LOCATION:Club Ícaro Aeromodelismo\, Club Ícaro aeromodelismo\, Leganés\, Madrid\, 28914\, España
CATEGORIES:Concentración de Aeromodelismo
ATTACH;FMTTYPE=image/webp:https://www.aeamd.org/wp-content/uploads/2024/02/eventos-icaro.webp
ORGANIZER;CN="Club %C3%8Dcaro":MAILTO:https://clubicaro.com/contactar-2/#
END:VEVENT
BEGIN:VEVENT
DTSTART;VALUE=DATE:20240609
DTEND;VALUE=DATE:20240610
DTSTAMP:20260422T180445
CREATED:20240217T163604Z
LAST-MODIFIED:20240217T175258Z
UID:9975-1717891200-1717977599@www.aeamd.org
SUMMARY:FESTIVAL AEREO INTERNACIONAL DE MOTRIL
DESCRIPTION:
URL:https://www.aeamd.org/evento/festivar-aereo-internacional-de-motril/
LOCATION:Motril Airshow\, Playa de Motril\, MOtril\, Granada\, España
CATEGORIES:Festival Aéreo
ATTACH;FMTTYPE=image/webp:https://www.aeamd.org/wp-content/uploads/2024/02/FESTIVAR-MOTRIL-2024.webp
ORGANIZER;CN="Festival A%C3%A9reo Internacional Ciudad de Motril":MAILTO:motrilairshow@gmail.com
END:VEVENT
BEGIN:VEVENT
DTSTART;VALUE=DATE:20240615
DTEND;VALUE=DATE:20240617
DTSTAMP:20260422T180445
CREATED:20240218T150551Z
LAST-MODIFIED:20240218T150651Z
UID:10052-1718409600-1718582399@www.aeamd.org
SUMMARY:50 ANIVERSARIO ALA 14
DESCRIPTION:
URL:https://www.aeamd.org/evento/50-aniversario-ala-14/
LOCATION:BASE AÉREA DE ALBACETE\, Carretera de Murcia\, km 3\, ALBACETE\, ALBACETE\, 02071\, España
CATEGORIES:Festival Aéreo
ATTACH;FMTTYPE=image/webp:https://www.aeamd.org/wp-content/uploads/2024/02/ALA14-LOGO.webp
END:VEVENT
BEGIN:VEVENT
DTSTART;VALUE=DATE:20240616
DTEND;VALUE=DATE:20240617
DTSTAMP:20260422T180445
CREATED:20240217T164018Z
LAST-MODIFIED:20240217T164018Z
UID:9979-1718496000-1718582399@www.aeamd.org
SUMMARY:ÍCARO ALAS ROTATIVAS
DESCRIPTION:Un año mas\, reunión de modelos de alas rotativas \n 
URL:https://www.aeamd.org/evento/icaro-alas-rotativas/
LOCATION:Club Ícaro Aeromodelismo\, Club Ícaro aeromodelismo\, Leganés\, Madrid\, 28914\, España
CATEGORIES:Concentración de Aeromodelismo
ATTACH;FMTTYPE=image/webp:https://www.aeamd.org/wp-content/uploads/2024/02/eventos-icaro.webp
ORGANIZER;CN="Club %C3%8Dcaro":MAILTO:https://clubicaro.com/contactar-2/#
END:VEVENT
END:VCALENDAR